BEGIN:VCALENDAR
VERSION:2.0
PRODID:-//hacksw/handcal//NONSGML v1.0//EN
CALSCALE:GREGORIAN
BEGIN:VEVENT
DTEND:20260416T093000Z
UID:25be5b6935fee3c7b814c4b8e5a032d1
DTSTAMP:20260423T083355Z
LOCATION:https://meet.google.com/vuw-wwxh-igy?authuser=0
DESCRIPTION:In de Workshop ‘Van Droom naar Plan’ op donderdag 16 april neemt CE lid, Karin Boerkamp van Huis van Geluk je mee om van jouw droom een concreet plan te maken en jouw innerlijk vuur weer te laten branden.
Heb je een droom of idee dat al een tijdje in je hoofd blijft sluimeren maar wat je nog niet tot realiteit hebt kunnen maken?
Wil je altijd nog een keer een boek schrijven? Een podcast beginnen over jouw favoriete onderwerp? Een huisje in Portugal? Een dag in de maand helemaal voor jouzelf om te doen waar jij zin in hebt? Of misschien is je droom nog niet zo specifiek maar heb je wel een verlangen dat het anders moet. 
Een unieke kans om jouw droom eindelijk om te zetten naar een plan, waarin we het fundament leggen voor jouw droom of idee.
Na deze workshop:

Heb jij je droom hardop uitgesproken en in beweging gebracht
Weet je de eerste 3 concrete stappen die je de komende week gaat zetten
Heb je helder wie/wat je grootste saboteur is en hoe je die om kunt zetten in jouw grootste kracht
Leer je mensen kennen die je verder kunnen helpen met hun skills, inzicht of netwerk.

Datum: donderdag 16 april van 10:30 tot 11:30 uur
Waar: online
&nbsp;
Karin Boerkamp &#8211; Huis van Geluk
&#8220;Mijn naam is Karin Boerkamp en met Huis van Geluk coach ik mensen die een droom hebben of op een kruispunt staan in hun leven. Ik lééf voor het moment dat de lichtjes weer beginnen te stralen in iemands ogen. 
Je kunt mij kennen van de Retreats &amp; Visionboardworkshops die ik organiseer, mijn Droomverhalen Podcast op Spotify of mijn boek met de titel: ‘Mijn moeder is vannacht overleden.&#8221;

URL;VALUE=URI: https://www.commoneasy.nl/events/workshop-van-droom-naar-plan/
SUMMARY:Workshop: van Droom naar Plan
DTSTART:20260416T083000Z
END:VEVENT
END:VCALENDAR