BEGIN:VCALENDAR
VERSION:2.0
PRODID:-//hacksw/handcal//NONSGML v1.0//EN
CALSCALE:GREGORIAN
BEGIN:VEVENT
DTEND:20230510T120000Z
UID:56e8a4547c1706ba757aa9fea23078a0
DTSTAMP:20260420T084012Z
LOCATION:https://us02web.zoom.us/j/87852212021
DESCRIPTION:Hey Ondernemer,
Heb je vragen over CommonEasy en wil je deze het liefst persoonlijk stellen?
Meld je aan voor een online koffie moment met oprichter Jip! Alle vragen zijn welkom, van een simpele ‘hoe doe ik mee?’ tot ‘wat is er mogelijk met deze community?’
Als bonus ontmoet je andere ondernemers uit het netwerk!
Wil je meedoen? Meld je dan even hier aan.

URL;VALUE=URI: https://www.commoneasy.nl/events/online-koffie-met-oprichter-jip-5/
SUMMARY:Online Koffie met oprichter Jip
DTSTART:20230510T110000Z
END:VEVENT
END:VCALENDAR