BEGIN:VCALENDAR
VERSION:2.0
PRODID:-//hacksw/handcal//NONSGML v1.0//EN
CALSCALE:GREGORIAN
BEGIN:VEVENT
DTEND:20220627T140000Z
UID:8d9be2369c05ddb2ff6a05901a204e43
DTSTAMP:20260423T083543Z
LOCATION:Seats2Meet Utrecht CS, Moreelsepark 65 , 3526 KM, Utrecht
DESCRIPTION:Iedere maandag is CommonEasy aanwezig in Seats2Meet Utrecht CS. We zitten vanaf 10u in het Permanent Future lab voor al jullie vragen, ideeën en snode plannen. En je bent ook van harte welkom om een dagje te co-werken, daar is in Seats2Meet plek zat voor!
Seats2Meet Utrecht CS ligt in Hoog Catharijne. Het is niet zo goed aangegeven, maar je vindt de ingang links naast de Albert Heijn. Je kan (niet gratis, maar zonder euros) een werkplek reserveren op de S2M website. 
We zien uit naar je komst,
Jeroen &amp; Lars
namens CommonEasy

URL;VALUE=URI: https://www.commoneasy.nl/events/commoneasy-kennismaking-inloop-en-co-workdag-in-seats2meet-utrecht-2/
SUMMARY:CommonEasy kennismaking, inloop- en co-workdag in Seats2Meet Utrecht
DTSTART:20220627T080000Z
END:VEVENT
END:VCALENDAR